Bioconductor build/check results

Build System RSS Feeds

Bioconductor 3.6 (devel)

Latest results

Bioconductor 3.5 (release)

Latest results


Archived results for past releases

Bioconductor 3.4

  • Software packages: last results (Apr 15, 2017): browse, download
  • Experimental data packages: last results (Apr 15, 2017): browse, download

Bioconductor 3.3


Bioconductor 3.2

  • Software packages: last results (Apr 23, 2016): browse, download
  • Experimental data packages: last results (Apr 23, 2016): browse, download

Bioconductor 3.1


Bioconductor 3.0


Bioconductor 2.14


Bioconductor 2.13


Bioconductor 2.12


Bioconductor 2.11


Bioconductor 2.10


Bioconductor 2.9


Bioconductor 2.8


Bioconductor 2.7


Bioconductor 2.6


Bioconductor 2.5


Bioconductor 2.4


Bioconductor 2.3


Bioconductor 2.2


Bioconductor 2.1


Bioconductor 2.0


Bioconductor 1.9


Bioconductor 1.8


Bioconductor 1.7