Back to Multiple platform build/check report for BioC 3.7 experimental data

Multiple platform build/check report for BioC 3.7 experimental data

Results for pumadata

This page was generated on 2018-09-20 13:00:37 -0400 (Thu, 20 Sep 2018).

Package 253/342HostnameOS / ArchINSTALLBUILDCHECKBUILD BIN
pumadata 2.16.0
Richard Pearson
Snapshot Date: 2018-09-20 07:35:34 -0400 (Thu, 20 Sep 2018)
URL: https://git.bioconductor.org/packages/pumadata
Branch: RELEASE_3_7
Last Commit: bd82f37
Last Changed Date: 2018-04-30 10:31:26 -0400 (Mon, 30 Apr 2018)
malbec2 Linux (Ubuntu 16.04.1 LTS) / x86_64  OK  OK  OK UNNEEDED, same version exists in internal repository