Back to Multiple platform build/check report for BioC 3.7 experimental data

Multiple platform build/check report for BioC 3.7 experimental data

Results for ccdata

This page was generated on 2018-08-19 13:00:35 -0400 (Sun, 19 Aug 2018).

Package 39/342HostnameOS / ArchINSTALLBUILDCHECKBUILD BIN
ccdata 1.6.0
Alex Pickering
Snapshot Date: 2018-08-19 07:35:20 -0400 (Sun, 19 Aug 2018)
URL: https://git.bioconductor.org/packages/ccdata
Branch: RELEASE_3_7
Last Commit: 9a8d9e8
Last Changed Date: 2018-04-30 10:31:32 -0400 (Mon, 30 Apr 2018)
malbec2 Linux (Ubuntu 16.04.1 LTS) / x86_64  OK  OK  WARNINGS UNNEEDED, same version exists in internal repository