Back to Multiple platform build/check report for BioC 3.7 experimental data

Multiple platform build/check report for BioC 3.7 experimental data

Results for SomaticCancerAlterations

This page was generated on 2018-09-20 13:00:39 -0400 (Thu, 20 Sep 2018).

Package 305/342HostnameOS / ArchINSTALLBUILDCHECKBUILD BIN
SomaticCancerAlterations 1.16.0
Julian Gehring
Snapshot Date: 2018-09-20 07:35:34 -0400 (Thu, 20 Sep 2018)
URL: https://git.bioconductor.org/packages/SomaticCancerAlterations
Branch: RELEASE_3_7
Last Commit: d9557af
Last Changed Date: 2018-04-30 10:31:28 -0400 (Mon, 30 Apr 2018)
malbec2 Linux (Ubuntu 16.04.1 LTS) / x86_64  OK  OK  OK UNNEEDED, same version exists in internal repository