Back to Multiple platform build/check report for BioC 3.7 experimental data

Multiple platform build/check report for BioC 3.7 experimental data

Results for MAQCsubsetILM

This page was generated on 2018-08-14 13:02:00 -0400 (Tue, 14 Aug 2018).

Package 191/342HostnameOS / ArchINSTALLBUILDCHECKBUILD BIN
MAQCsubsetILM 1.18.0
Laurent Gatto
Snapshot Date: 2018-08-14 07:35:33 -0400 (Tue, 14 Aug 2018)
URL: https://git.bioconductor.org/packages/MAQCsubsetILM
Branch: RELEASE_3_7
Last Commit: 72a0657
Last Changed Date: 2018-04-30 10:31:26 -0400 (Mon, 30 Apr 2018)
malbec2 Linux (Ubuntu 16.04.1 LTS) / x86_64  OK  OK  OK UNNEEDED, same version exists in internal repository