Back to Multiple platform build/check report for BioC 3.7 experimental data

Multiple platform build/check report for BioC 3.7 experimental data

Results for CopyhelpeR

This page was generated on 2018-08-14 13:01:55 -0400 (Tue, 14 Aug 2018).

Package 65/342HostnameOS / ArchINSTALLBUILDCHECKBUILD BIN
CopyhelpeR 1.12.0
Thomas Kuilman
Snapshot Date: 2018-08-14 07:35:33 -0400 (Tue, 14 Aug 2018)
URL: https://git.bioconductor.org/packages/CopyhelpeR
Branch: RELEASE_3_7
Last Commit: 5c46359
Last Changed Date: 2018-04-30 10:31:29 -0400 (Mon, 30 Apr 2018)
malbec2 Linux (Ubuntu 16.04.1 LTS) / x86_64  OK  OK  OK UNNEEDED, same version exists in internal repository