Back to Multiple platform build/check report for BioC 3.6
ABCDEF[G]HIJKLMNOPQRSTUVWXYZ

Multiple platform build/check report for BioC 3.6

Results for genefilter

This page was generated on 2017-11-20 14:20:20 -0500 (Mon, 20 Nov 2017).

Package 535/1473HostnameOS / ArchINSTALLBUILDCHECKBUILD BIN
genefilter 1.60.0
Bioconductor Package Maintainer
Snapshot Date: 2017-11-19 17:00:22 -0500 (Sun, 19 Nov 2017)
URL: https://git.bioconductor.org/packages/genefilter
Branch: RELEASE_3_6
Last Commit: c98f695
Last Changed Date: 2017-10-30 12:38:08 -0500 (Mon, 30 Oct 2017)
malbec1 Linux (Ubuntu 16.04.1 LTS) / x86_64  OK  OK  WARNINGS UNNEEDED, same version exists in internal repository
tokay1 Windows Server 2012 R2 Standard / x64  OK  OK  WARNINGS  OK UNNEEDED, same version exists in internal repository
veracruz1 OS X 10.11.6 El Capitan / x86_64  OK  OK  WARNINGS  OK UNNEEDED, same version exists in internal repository