Back to Multiple platform build/check report for BioC 3.7
ABC[D]EFGHIJKLMNOPQRSTUVWXYZ

Multiple platform build/check report for BioC 3.7

Results for diggit

This page was generated on 2018-09-24 09:58:29 -0400 (Mon, 24 Sep 2018).

Package 390/1560HostnameOS / ArchINSTALLBUILDCHECKBUILD BIN
diggit 1.12.0
Mariano J Alvarez
Snapshot Date: 2018-09-23 16:46:14 -0400 (Sun, 23 Sep 2018)
URL: https://git.bioconductor.org/packages/diggit
Branch: RELEASE_3_7
Last Commit: e8aa811
Last Changed Date: 2018-04-30 10:35:36 -0400 (Mon, 30 Apr 2018)
malbec2 Linux (Ubuntu 16.04.1 LTS) / x86_64  OK  OK  WARNINGS UNNEEDED, same version exists in internal repository
tokay2 Windows Server 2012 R2 Standard / x64  OK  OK  WARNINGS  OK UNNEEDED, same version exists in internal repository
merida2 OS X 10.11.6 El Capitan / x86_64  OK  OK  WARNINGS  OK UNNEEDED, same version exists in internal repository