Back to Multiple platform build/check report for BioC 3.7
[A]BCDEFGHIJKLMNOPQRSTUVWXYZ

Multiple platform build/check report for BioC 3.7

Results for alpine

This page was generated on 2018-08-14 10:39:58 -0400 (Tue, 14 Aug 2018).

Package 37/1559HostnameOS / ArchINSTALLBUILDCHECKBUILD BIN
alpine 1.6.0
Michael Love
Snapshot Date: 2018-08-13 16:45:11 -0400 (Mon, 13 Aug 2018)
URL: https://git.bioconductor.org/packages/alpine
Branch: RELEASE_3_7
Last Commit: ea55fcb
Last Changed Date: 2018-04-30 10:35:43 -0400 (Mon, 30 Apr 2018)
malbec2 Linux (Ubuntu 16.04.1 LTS) / x86_64  OK  OK  OK UNNEEDED, same version exists in internal repository
tokay2 Windows Server 2012 R2 Standard / x64  OK  OK  OK  OK UNNEEDED, same version exists in internal repository
merida2 OS X 10.11.6 El Capitan / x86_64  OK  OK  OK  OK UNNEEDED, same version exists in internal repository