Back to Multiple platform build/check report for BioC 3.7
ABC[D]EFGHIJKLMNOPQRSTUVWXYZ

Multiple platform build/check report for BioC 3.7

Results for DominoEffect

This page was generated on 2018-10-15 09:57:56 -0400 (Mon, 15 Oct 2018).

Package 404/1561HostnameOS / ArchINSTALLBUILDCHECKBUILD BIN
DominoEffect 1.0.0
Marija Buljan
Snapshot Date: 2018-10-14 16:46:11 -0400 (Sun, 14 Oct 2018)
URL: https://git.bioconductor.org/packages/DominoEffect
Branch: RELEASE_3_7
Last Commit: 324d10a
Last Changed Date: 2018-04-30 10:35:49 -0400 (Mon, 30 Apr 2018)
malbec2 Linux (Ubuntu 16.04.1 LTS) / x86_64  OK  OK  OK UNNEEDED, same version exists in internal repository
tokay2 Windows Server 2012 R2 Standard / x64  OK  ERROR  skipped  skipped 
merida2 OS X 10.11.6 El Capitan / x86_64  OK  OK  OK  OK UNNEEDED, same version exists in internal repository