Back to Multiple platform build/check report for BioC 3.7
ABC[D]EFGHIJKLMNOPQRSTUVWXYZ

Multiple platform build/check report for BioC 3.7

Results for DeconRNASeq

This page was generated on 2018-10-15 09:57:53 -0400 (Mon, 15 Oct 2018).

Package 356/1561HostnameOS / ArchINSTALLBUILDCHECKBUILD BIN
DeconRNASeq 1.22.0
Ting Gong
Snapshot Date: 2018-10-14 16:46:11 -0400 (Sun, 14 Oct 2018)
URL: https://git.bioconductor.org/packages/DeconRNASeq
Branch: RELEASE_3_7
Last Commit: 41b984f
Last Changed Date: 2018-04-30 10:35:27 -0400 (Mon, 30 Apr 2018)
malbec2 Linux (Ubuntu 16.04.1 LTS) / x86_64  OK  OK  OK UNNEEDED, same version exists in internal repository
tokay2 Windows Server 2012 R2 Standard / x64  OK  OK  OK  OK UNNEEDED, same version exists in internal repository
merida2 OS X 10.11.6 El Capitan / x86_64  OK  OK  OK  OK UNNEEDED, same version exists in internal repository