Back to the "Multiple platform build/check report" A  B [C] D  E  F  G  H  I  J  K  L  M  N  O  P  Q  R  S  T  U  V  W  X  Y  Z 

BioC 3.5: BUILD/CHECK reports for CAGEr

This page was generated on 2017-09-20 13:30:28 -0400 (Wed, 20 Sep 2017).

Package 163/1381HostnameOS / ArchINSTALLBUILDCHECKBUILD BIN
CAGEr 1.18.1
Vanja Haberle , Charles Plessy
Snapshot Date: 2017-09-19 17:18:19 -0400 (Tue, 19 Sep 2017)
URL: https://git.bioconductor.org/packages/CAGEr
Last Commit: 57d99d9
Last Changed Date: 2017-08-07 04:04:05 -0400 (Mon, 07 Aug 2017)
malbec2 Linux (Ubuntu 16.04.1 LTS) / x86_64  OK  OK  OK UNNEEDED, same version exists in internal repository
tokay2 Windows Server 2012 R2 Standard / x64  OK  OK  OK  OK UNNEEDED, same version exists in internal repository
veracruz2 OS X 10.11.6 El Capitan / x86_64  OK  OK  OK  OK UNNEEDED, same version exists in internal repository