Back to Multiple platform build/check report for BioC 3.7
[A]BCDEFGHIJKLMNOPQRSTUVWXYZ

Multiple platform build/check report for BioC 3.7

Results for ABAEnrichment

This page was generated on 2018-09-21 09:59:13 -0400 (Fri, 21 Sep 2018).

Package 7/1560HostnameOS / ArchINSTALLBUILDCHECKBUILD BIN
ABAEnrichment 1.10.0
Steffi Grote
Snapshot Date: 2018-09-20 16:46:12 -0400 (Thu, 20 Sep 2018)
URL: https://git.bioconductor.org/packages/ABAEnrichment
Branch: RELEASE_3_7
Last Commit: 15f33cc
Last Changed Date: 2018-04-30 10:35:37 -0400 (Mon, 30 Apr 2018)
malbec2 Linux (Ubuntu 16.04.1 LTS) / x86_64  OK  OK  OK UNNEEDED, same version exists in internal repository
tokay2 Windows Server 2012 R2 Standard / x64  OK  OK  OK  OK UNNEEDED, same version exists in internal repository
merida2 OS X 10.11.6 El Capitan / x86_64  OK  OK  OK  OK UNNEEDED, same version exists in internal repository