Back to Multiple platform build/check report for BioC 3.8 experimental data

Multiple platform build/check report for BioC 3.8 experimental data

Results for kidpack

This page was generated on 2018-09-23 12:59:27 -0400 (Sun, 23 Sep 2018).

Package 179/350HostnameOS / ArchINSTALLBUILDCHECKBUILD BIN
kidpack 1.23.0
Wolfgang Huber
Snapshot Date: 2018-09-23 07:35:36 -0400 (Sun, 23 Sep 2018)
URL: https://git.bioconductor.org/packages/kidpack
Branch: master
Last Commit: 55019d1
Last Changed Date: 2018-04-30 10:34:47 -0400 (Mon, 30 Apr 2018)
malbec1 Linux (Ubuntu 16.04.1 LTS) / x86_64  OK  OK  WARNINGS UNNEEDED, same version exists in internal repository