Back to Multiple platform build/check report for BioC 3.7 experimental data

Multiple platform build/check report for BioC 3.7 experimental data

Results for ceuhm3

This page was generated on 2018-04-26 13:00:17 -0400 (Thu, 26 Apr 2018).

Package 45/342HostnameOS / ArchINSTALLBUILDCHECKBUILD BIN
ceuhm3 0.17.0
VJ Carey
Snapshot Date: 2018-04-26 07:35:11 -0400 (Thu, 26 Apr 2018)
URL: https://git.bioconductor.org/packages/ceuhm3
Branch: master
Last Commit: 23de722
Last Changed Date: 2017-10-30 12:09:07 -0400 (Mon, 30 Oct 2017)
malbec2 Linux (Ubuntu 16.04.1 LTS) / x86_64  OK  OK  OK UNNEEDED, same version exists in internal repository