Back to Multiple platform build/check report for BioC 3.7 experimental data

Multiple platform build/check report for BioC 3.7 experimental data

Results for RnBeads.hg19

This page was generated on 2018-04-22 12:59:35 -0400 (Sun, 22 Apr 2018).

Package 273/342HostnameOS / ArchINSTALLBUILDCHECKBUILD BIN
RnBeads.hg19 1.11.0
RnBeadsAnnotationCreator
Snapshot Date: 2018-04-22 07:35:17 -0400 (Sun, 22 Apr 2018)
URL: https://git.bioconductor.org/packages/RnBeads.hg19
Branch: master
Last Commit: 0ae9261
Last Changed Date: 2017-10-30 12:09:07 -0400 (Mon, 30 Oct 2017)
malbec2 Linux (Ubuntu 16.04.1 LTS) / x86_64  OK  OK  WARNINGS UNNEEDED, same version exists in internal repository