Back to Multiple platform build/check report for BioC 3.8 experimental data

Multiple platform build/check report for BioC 3.8 experimental data

Results for FlowSorted.CordBlood.450k

This page was generated on 2018-09-23 12:59:25 -0400 (Sun, 23 Sep 2018).

Package 115/350HostnameOS / ArchINSTALLBUILDCHECKBUILD BIN
FlowSorted.CordBlood.450k 1.9.0
Shan V. Andrews
Snapshot Date: 2018-09-23 07:35:36 -0400 (Sun, 23 Sep 2018)
URL: https://git.bioconductor.org/packages/FlowSorted.CordBlood.450k
Branch: master
Last Commit: 1be4c02
Last Changed Date: 2018-04-30 10:34:48 -0400 (Mon, 30 Apr 2018)
malbec1 Linux (Ubuntu 16.04.1 LTS) / x86_64  OK  OK  OK UNNEEDED, same version exists in internal repository