Back to Multiple platform build/check report for BioC 3.9 experimental data

Multiple platform build/check report for BioC 3.9 experimental data

Results for FlowSorted.Blood.450k

This page was generated on 2018-11-15 15:16:13 -0500 (Thu, 15 Nov 2018).

Package 116/357HostnameOS / ArchINSTALLBUILDCHECKBUILD BIN
FlowSorted.Blood.450k 1.21.0
Andrew E Jaffe
Snapshot Date: 2018-11-15 06:35:14 -0500 (Thu, 15 Nov 2018)
URL: https://git.bioconductor.org/packages/FlowSorted.Blood.450k
Branch: master
Last Commit: 6b2c17c
Last Changed Date: 2018-10-30 11:38:33 -0500 (Tue, 30 Oct 2018)
malbec2 Linux (Ubuntu 18.04.1 LTS) / x86_64  OK  OK  OK UNNEEDED, same version exists in internal repository