Back to Multiple platform build/check report for BioC 3.8 experimental data

Multiple platform build/check report for BioC 3.8 experimental data

Results for Fletcher2013b

This page was generated on 2018-09-20 13:00:19 -0400 (Thu, 20 Sep 2018).

Package 109/350HostnameOS / ArchINSTALLBUILDCHECKBUILD BIN
Fletcher2013b 1.17.0
Mauro Castro
Snapshot Date: 2018-09-20 07:35:24 -0400 (Thu, 20 Sep 2018)
URL: https://git.bioconductor.org/packages/Fletcher2013b
Branch: master
Last Commit: 54c7e81
Last Changed Date: 2018-04-30 10:34:47 -0400 (Mon, 30 Apr 2018)
malbec1 Linux (Ubuntu 16.04.1 LTS) / x86_64  OK  OK  OK UNNEEDED, same version exists in internal repository