Back to Multiple platform build/check report for BioC 3.8 experimental data

Multiple platform build/check report for BioC 3.8 experimental data

Results for Affymoe4302Expr

This page was generated on 2018-10-23 12:59:21 -0400 (Tue, 23 Oct 2018).

Package 8/356HostnameOS / ArchINSTALLBUILDCHECKBUILD BIN
Affymoe4302Expr 1.19.0
Zhicheng Ji
Snapshot Date: 2018-10-23 07:35:11 -0400 (Tue, 23 Oct 2018)
URL: https://git.bioconductor.org/packages/Affymoe4302Expr
Branch: master
Last Commit: 175385f
Last Changed Date: 2018-04-30 10:34:48 -0400 (Mon, 30 Apr 2018)
malbec1 Linux (Ubuntu 16.04.1 LTS) / x86_64  OK  OK  OK UNNEEDED, same version exists in internal repository