Back to the "Build/check report"

BioC experimental data: BUILD/CHECK reports for ALL

This page was generated on 2017-09-20 15:11:13 -0400 (Wed, 20 Sep 2017).

Package 10/317HostnameOS / ArchINSTALLBUILDCHECKBUILD BIN
ALL 1.19.0
Robert Gentleman
Snapshot Date: 2017-09-20 09:00:05 -0400 (Wed, 20 Sep 2017)
URL: https://git.bioconductor.org/packages/ALL
Last Commit: d591408
Last Changed Date: 2017-08-16 15:18:48 -0400 (Wed, 16 Aug 2017)
malbec1 Linux (Ubuntu 16.04.1 LTS) / x86_64  OK  OK  OK UNNEEDED, same version exists in internal repository