Back to Multiple platform build/check report for BioC 3.9
ABCDEFGHIJKL[M]NOPQRSTUVWXYZ

Multiple platform build/check report for BioC 3.9

Results for mpra

This page was generated on 2018-11-14 13:53:55 -0500 (Wed, 14 Nov 2018).

Package 993/1636HostnameOS / ArchINSTALLBUILDCHECKBUILD BIN
mpra 1.5.0
Leslie Myint
Snapshot Date: 2018-11-13 16:46:18 -0500 (Tue, 13 Nov 2018)
URL: https://git.bioconductor.org/packages/mpra
Branch: master
Last Commit: 035bac1
Last Changed Date: 2018-10-30 11:54:38 -0500 (Tue, 30 Oct 2018)
malbec2 Linux (Ubuntu 18.04.1 LTS) / x86_64  OK  OK  OK UNNEEDED, same version exists in internal repository
tokay2 Windows Server 2012 R2 Standard / x64  OK  OK  OK  OK UNNEEDED, same version exists in internal repository
merida2 OS X 10.11.6 El Capitan / x86_64  OK  OK  OK  OK UNNEEDED, same version exists in internal repository