Back to Multiple platform build/check report for BioC 3.8
ABCDEF[G]HIJKLMNOPQRSTUVWXYZ

Multiple platform build/check report for BioC 3.8

Results for garfield

This page was generated on 2018-10-19 10:01:49 -0400 (Fri, 19 Oct 2018).

Package 564/1627HostnameOS / ArchINSTALLBUILDCHECKBUILD BIN
garfield 1.9.1
Valentina Iotchkova
Snapshot Date: 2018-10-18 16:46:23 -0400 (Thu, 18 Oct 2018)
URL: https://git.bioconductor.org/packages/garfield
Branch: master
Last Commit: 2db28ed
Last Changed Date: 2018-08-30 13:49:02 -0400 (Thu, 30 Aug 2018)
malbec1 Linux (Ubuntu 16.04.1 LTS) / x86_64  OK  OK  OK UNNEEDED, same version exists in internal repository
tokay1 Windows Server 2012 R2 Standard / x64  OK  OK  OK  OK UNNEEDED, same version exists in internal repository
merida1 OS X 10.11.6 El Capitan / x86_64  OK  OK  OK  OK UNNEEDED, same version exists in internal repository