Back to Multiple platform build/check report for BioC 3.8
ABCDE[F]GHIJKLMNOPQRSTUVWXYZ

Multiple platform build/check report for BioC 3.8

Results for flowViz

This page was generated on 2018-06-19 10:21:01 -0400 (Tue, 19 Jun 2018).

Package 523/1567HostnameOS / ArchINSTALLBUILDCHECKBUILD BIN
flowViz 1.45.0
Mike Jiang
Snapshot Date: 2018-06-18 16:45:10 -0400 (Mon, 18 Jun 2018)
URL: https://git.bioconductor.org/packages/flowViz
Branch: master
Last Commit: e00ad7f
Last Changed Date: 2018-04-30 10:41:37 -0400 (Mon, 30 Apr 2018)
malbec1 Linux (Ubuntu 16.04.1 LTS) / x86_64  OK  OK  OK UNNEEDED, same version exists in internal repository
tokay1 Windows Server 2012 R2 Standard / x64  OK  OK  WARNINGS  OK UNNEEDED, same version exists in internal repository
merida1 OS X 10.11.6 El Capitan / x86_64  OK  OK  OK  OK UNNEEDED, same version exists in internal repository