Back to Multiple platform build/check report for BioC 3.8
ABCDE[F]GHIJKLMNOPQRSTUVWXYZ

Multiple platform build/check report for BioC 3.8

Results for fdrame

This page was generated on 2018-07-18 09:59:08 -0400 (Wed, 18 Jul 2018).

Package 484/1574HostnameOS / ArchINSTALLBUILDCHECKBUILD BIN
fdrame 1.53.0
Effi Kenigsberg
Snapshot Date: 2018-07-17 16:46:19 -0400 (Tue, 17 Jul 2018)
URL: https://git.bioconductor.org/packages/fdrame
Branch: master
Last Commit: 7a9d9a2
Last Changed Date: 2018-04-30 10:41:36 -0400 (Mon, 30 Apr 2018)
malbec1 Linux (Ubuntu 16.04.1 LTS) / x86_64  OK  OK  OK UNNEEDED, same version exists in internal repository
tokay1 Windows Server 2012 R2 Standard / x64  OK  OK  OK  OK UNNEEDED, same version exists in internal repository
merida1 OS X 10.11.6 El Capitan / x86_64  OK  OK  OK  OK UNNEEDED, same version exists in internal repository