Back to Multiple platform build/check report for BioC 3.8
AB[C]DEFGHIJKLMNOPQRSTUVWXYZ

Multiple platform build/check report for BioC 3.8

Results for cellTree

This page was generated on 2018-08-14 10:30:48 -0400 (Tue, 14 Aug 2018).

Package 211/1584HostnameOS / ArchINSTALLBUILDCHECKBUILD BIN
cellTree 1.11.0
David duVerle
Snapshot Date: 2018-08-13 16:45:10 -0400 (Mon, 13 Aug 2018)
URL: https://git.bioconductor.org/packages/cellTree
Branch: master
Last Commit: 32ddfbf
Last Changed Date: 2018-04-30 10:41:41 -0400 (Mon, 30 Apr 2018)
malbec1 Linux (Ubuntu 16.04.1 LTS) / x86_64  OK  OK  OK UNNEEDED, same version exists in internal repository
tokay1 Windows Server 2012 R2 Standard / x64  OK  OK  WARNINGS  OK UNNEEDED, same version exists in internal repository
merida1 OS X 10.11.6 El Capitan / x86_64  OK  OK  OK  OK UNNEEDED, same version exists in internal repository