Back to Multiple platform build/check report for BioC 3.9
AB[C]DEFGHIJKLMNOPQRSTUVWXYZ

Multiple platform build/check report for BioC 3.9

Results for cancerclass

This page was generated on 2018-11-15 14:03:39 -0500 (Thu, 15 Nov 2018).

Package 194/1636HostnameOS / ArchINSTALLBUILDCHECKBUILD BIN
cancerclass 1.27.0
Daniel Kosztyla
Snapshot Date: 2018-11-14 16:45:12 -0500 (Wed, 14 Nov 2018)
URL: https://git.bioconductor.org/packages/cancerclass
Branch: master
Last Commit: 33e0f34
Last Changed Date: 2018-10-30 11:54:30 -0500 (Tue, 30 Oct 2018)
malbec2 Linux (Ubuntu 18.04.1 LTS) / x86_64  OK  OK  OK UNNEEDED, same version exists in internal repository
tokay2 Windows Server 2012 R2 Standard / x64  OK  OK  OK  OK UNNEEDED, same version exists in internal repository
merida2 OS X 10.11.6 El Capitan / x86_64  OK  OK  WARNINGS  OK UNNEEDED, same version exists in internal repository