Back to Multiple platform build/check report for BioC 3.8
ABCDEFGHIJKLMNOPQ[R]STUVWXYZ

Multiple platform build/check report for BioC 3.8

Results for RBGL

This page was generated on 2018-08-19 10:29:02 -0400 (Sun, 19 Aug 2018).

Package 1204/1587HostnameOS / ArchINSTALLBUILDCHECKBUILD BIN
RBGL 1.57.0
Bioconductor Package Maintainer
Snapshot Date: 2018-08-18 16:45:17 -0400 (Sat, 18 Aug 2018)
URL: https://git.bioconductor.org/packages/RBGL
Branch: master
Last Commit: 3d69f49
Last Changed Date: 2018-04-30 10:41:36 -0400 (Mon, 30 Apr 2018)
malbec1 Linux (Ubuntu 16.04.1 LTS) / x86_64  OK  OK  OK UNNEEDED, same version exists in internal repository
tokay1 Windows Server 2012 R2 Standard / x64  OK  OK  OK  OK UNNEEDED, same version exists in internal repository
merida1 OS X 10.11.6 El Capitan / x86_64  OK  OK  OK  OK UNNEEDED, same version exists in internal repository