Back to Multiple platform build/check report for BioC 3.7
ABC[D]EFGHIJKLMNOPQRSTUVWXYZ

Multiple platform build/check report for BioC 3.7

Results for DynDoc

This page was generated on 2017-11-20 06:58:01 -0500 (Mon, 20 Nov 2017).

Package 394/1463HostnameOS / ArchINSTALLBUILDCHECKBUILD BIN
DynDoc 1.57.0
Bioconductor Package Maintainer
Snapshot Date: 2017-11-19 17:00:14 -0500 (Sun, 19 Nov 2017)
URL: https://git.bioconductor.org/packages/DynDoc
Branch: master
Last Commit: 64229b1
Last Changed Date: 2017-10-30 12:52:03 -0500 (Mon, 30 Oct 2017)
malbec2 Linux (Ubuntu 16.04.1 LTS) / x86_64  OK  OK  OK UNNEEDED, same version exists in internal repository
tokay2 Windows Server 2012 R2 Standard / x64  OK  OK  OK  OK UNNEEDED, same version exists in internal repository
merida2 OS X 10.11.6 El Capitan / x86_64  OK  OK  OK  OK UNNEEDED, same version exists in internal repository