Back to Multiple platform build/check report for BioC 3.8
ABC[D]EFGHIJKLMNOPQRSTUVWXYZ

Multiple platform build/check report for BioC 3.8

Results for DelayedArray

This page was generated on 2018-08-19 10:27:38 -0400 (Sun, 19 Aug 2018).

Package 370/1587HostnameOS / ArchINSTALLBUILDCHECKBUILD BIN
DelayedArray 0.7.30
Hervé Pagès
Snapshot Date: 2018-08-18 16:45:17 -0400 (Sat, 18 Aug 2018)
URL: https://git.bioconductor.org/packages/DelayedArray
Branch: master
Last Commit: a4b9da0
Last Changed Date: 2018-08-16 19:11:06 -0400 (Thu, 16 Aug 2018)
malbec1 Linux (Ubuntu 16.04.1 LTS) / x86_64  OK  OK  WARNINGS UNNEEDED, same version exists in internal repository
tokay1 Windows Server 2012 R2 Standard / x64  OK  OK  WARNINGS  OK UNNEEDED, same version exists in internal repository
merida1 OS X 10.11.6 El Capitan / x86_64  OK  OK  WARNINGS  OK UNNEEDED, same version exists in internal repository