Back to Multiple platform build/check report for BioC 3.8
AB[C]DEFGHIJKLMNOPQRSTUVWXYZ

Multiple platform build/check report for BioC 3.8

Results for Clomial

This page was generated on 2018-06-20 09:57:46 -0400 (Wed, 20 Jun 2018).

Package 256/1567HostnameOS / ArchINSTALLBUILDCHECKBUILD BIN
Clomial 1.17.2
Habil Zare
Snapshot Date: 2018-06-19 16:46:22 -0400 (Tue, 19 Jun 2018)
URL: https://git.bioconductor.org/packages/Clomial
Branch: master
Last Commit: 915268d
Last Changed Date: 2018-05-31 19:52:14 -0400 (Thu, 31 May 2018)
malbec1 Linux (Ubuntu 16.04.1 LTS) / x86_64  OK  OK  OK UNNEEDED, same version exists in internal repository
tokay1 Windows Server 2012 R2 Standard / x64  OK  OK  OK  OK UNNEEDED, same version exists in internal repository
merida1 OS X 10.11.6 El Capitan / x86_64  OK  OK  OK  OK UNNEEDED, same version exists in internal repository