Back to Multiple platform build/check report for BioC 3.8
AB[C]DEFGHIJKLMNOPQRSTUVWXYZ

Multiple platform build/check report for BioC 3.8

Results for ClassifyR

This page was generated on 2018-07-18 09:58:51 -0400 (Wed, 18 Jul 2018).

Package 251/1574HostnameOS / ArchINSTALLBUILDCHECKBUILD BIN
ClassifyR 2.1.10
Dario Strbenac
Snapshot Date: 2018-07-17 16:46:19 -0400 (Tue, 17 Jul 2018)
URL: https://git.bioconductor.org/packages/ClassifyR
Branch: master
Last Commit: fb9d357
Last Changed Date: 2018-07-10 23:00:06 -0400 (Tue, 10 Jul 2018)
malbec1 Linux (Ubuntu 16.04.1 LTS) / x86_64  OK  OK  OK UNNEEDED, same version exists in internal repository
tokay1 Windows Server 2012 R2 Standard / x64  OK  OK  WARNINGS  OK UNNEEDED, same version exists in internal repository
merida1 OS X 10.11.6 El Capitan / x86_64  OK  OK  OK  OK UNNEEDED, same version exists in internal repository