Back to Multiple platform build/check report for BioC 3.8
AB[C]DEFGHIJKLMNOPQRSTUVWXYZ

Multiple platform build/check report for BioC 3.8

Results for ChIPQC

This page was generated on 2018-10-22 09:56:50 -0400 (Mon, 22 Oct 2018).

Package 243/1627HostnameOS / ArchINSTALLBUILDCHECKBUILD BIN
ChIPQC 1.17.1
Tom Carroll , Rory Stark
Snapshot Date: 2018-10-21 16:46:23 -0400 (Sun, 21 Oct 2018)
URL: https://git.bioconductor.org/packages/ChIPQC
Branch: master
Last Commit: 2737f7f
Last Changed Date: 2018-09-21 10:38:29 -0400 (Fri, 21 Sep 2018)
malbec1 Linux (Ubuntu 16.04.1 LTS) / x86_64  OK  OK  OK UNNEEDED, same version exists in internal repository
tokay1 Windows Server 2012 R2 Standard / x64  OK  OK  OK  OK UNNEEDED, same version exists in internal repository
merida1 OS X 10.11.6 El Capitan / x86_64  OK  OK  OK  OK UNNEEDED, same version exists in internal repository