Back to Multiple platform build/check report for BioC 3.8 experimental data

Multiple platform build/check report for BioC 3.8 experimental data

Results for msd16s

This page was generated on 2018-10-18 12:59:58 -0400 (Thu, 18 Oct 2018).

Package 221/354HostnameOS / ArchINSTALLBUILDCHECKBUILD BIN
msd16s 1.1.0
Joseph N. Paulson
Snapshot Date: 2018-10-18 07:35:35 -0400 (Thu, 18 Oct 2018)
URL: https://git.bioconductor.org/packages/msd16s
Branch: master
Last Commit: 31940df
Last Changed Date: 2018-09-27 12:22:12 -0400 (Thu, 27 Sep 2018)
malbec1 Linux (Ubuntu 16.04.1 LTS) / x86_64  OK  OK  OK UNNEEDED, same version exists in internal repository