Back to Multiple platform build/check report for BioC 3.8 experimental data

Multiple platform build/check report for BioC 3.8 experimental data

Results for gatingMLData

This page was generated on 2018-10-18 12:59:55 -0400 (Thu, 18 Oct 2018).

Package 126/354HostnameOS / ArchINSTALLBUILDCHECKBUILD BIN
gatingMLData 2.21.0
J. Spidlen
Snapshot Date: 2018-10-18 07:35:35 -0400 (Thu, 18 Oct 2018)
URL: https://git.bioconductor.org/packages/gatingMLData
Branch: master
Last Commit: 32b59e2
Last Changed Date: 2018-04-30 10:34:47 -0400 (Mon, 30 Apr 2018)
malbec1 Linux (Ubuntu 16.04.1 LTS) / x86_64  OK  OK  OK UNNEEDED, same version exists in internal repository