Back to Multiple platform build/check report for BioC 3.8 experimental data

Multiple platform build/check report for BioC 3.8 experimental data

Results for SpikeInSubset

This page was generated on 2018-10-14 13:00:08 -0400 (Sun, 14 Oct 2018).

Package 316/354HostnameOS / ArchINSTALLBUILDCHECKBUILD BIN
SpikeInSubset 1.21.0
Rafael A. Irizarry
Snapshot Date: 2018-10-14 07:35:24 -0400 (Sun, 14 Oct 2018)
URL: https://git.bioconductor.org/packages/SpikeInSubset
Branch: master
Last Commit: bd34118
Last Changed Date: 2018-04-30 10:34:47 -0400 (Mon, 30 Apr 2018)
malbec1 Linux (Ubuntu 16.04.1 LTS) / x86_64  OK  OK  WARNINGS UNNEEDED, same version exists in internal repository