Back to Multiple platform build/check report for BioC 3.8 experimental data

Multiple platform build/check report for BioC 3.8 experimental data

Results for CLL

This page was generated on 2018-08-14 12:59:13 -0400 (Tue, 14 Aug 2018).

Package 56/345HostnameOS / ArchINSTALLBUILDCHECKBUILD BIN
CLL 1.21.0
Robert Gentleman
Snapshot Date: 2018-08-14 07:35:52 -0400 (Tue, 14 Aug 2018)
URL: https://git.bioconductor.org/packages/CLL
Branch: master
Last Commit: 1c2ccf0
Last Changed Date: 2018-04-30 10:34:47 -0400 (Mon, 30 Apr 2018)
malbec1 Linux (Ubuntu 16.04.1 LTS) / x86_64  OK  OK  WARNINGS UNNEEDED, same version exists in internal repository