Back to Multiple platform build/check report for BioC 3.8
ABCDEFGHIJKLMNO[P]QRSTUVWXYZ

Multiple platform build/check report for BioC 3.8

Results for predictionet

This page was generated on 2018-08-15 10:00:34 -0400 (Wed, 15 Aug 2018).

Package 1137/1583HostnameOS / ArchINSTALLBUILDCHECKBUILD BIN
predictionet 1.27.0
Benjamin Haibe-Kains
Snapshot Date: 2018-08-14 16:46:26 -0400 (Tue, 14 Aug 2018)
URL: https://git.bioconductor.org/packages/predictionet
Branch: master
Last Commit: 15794f3
Last Changed Date: 2018-04-30 10:41:38 -0400 (Mon, 30 Apr 2018)
malbec1 Linux (Ubuntu 16.04.1 LTS) / x86_64  OK  OK  OK UNNEEDED, same version exists in internal repository
tokay1 Windows Server 2012 R2 Standard / x64 ...NOT SUPPORTED...
merida1 OS X 10.11.6 El Capitan / x86_64  OK  OK  OK  OK UNNEEDED, same version exists in internal repository