Back to Multiple platform build/check report for BioC 3.8
ABC[D]EFGHIJKLMNOPQRSTUVWXYZ

Multiple platform build/check report for BioC 3.8

Results for dmrseq

This page was generated on 2018-06-20 09:57:56 -0400 (Wed, 20 Jun 2018).

Package 399/1567HostnameOS / ArchINSTALLBUILDCHECKBUILD BIN
dmrseq 1.1.11
Keegan Korthauer
Snapshot Date: 2018-06-19 16:46:22 -0400 (Tue, 19 Jun 2018)
URL: https://git.bioconductor.org/packages/dmrseq
Branch: master
Last Commit: 36b3063
Last Changed Date: 2018-06-19 13:47:41 -0400 (Tue, 19 Jun 2018)
malbec1 Linux (Ubuntu 16.04.1 LTS) / x86_64  OK  OK  OK YES, new version is higher than in internal repository
tokay1 Windows Server 2012 R2 Standard / x64  OK  OK  OK  OK YES, new version is higher than in internal repository
merida1 OS X 10.11.6 El Capitan / x86_64  OK  OK  OK  OK YES, new version is higher than in internal repository