Back to Multiple platform build/check report for BioC 3.8
ABCDEF[G]HIJKLMNOPQRSTUVWXYZ

Multiple platform build/check report for BioC 3.8

Results for GeneNetworkBuilder

This page was generated on 2018-11-18 10:42:57 -0500 (Sun, 18 Nov 2018).

Package 600/1649HostnameOS / ArchINSTALLBUILDCHECKBUILD BIN
GeneNetworkBuilder 1.24.0
Jianhong Ou
Snapshot Date: 2018-11-17 16:45:18 -0500 (Sat, 17 Nov 2018)
URL: https://git.bioconductor.org/packages/GeneNetworkBuilder
Branch: RELEASE_3_8
Last Commit: 8a619f0
Last Changed Date: 2018-10-30 11:41:49 -0500 (Tue, 30 Oct 2018)
malbec1 Linux (Ubuntu 16.04.1 LTS) / x86_64  OK  OK  OK UNNEEDED, same version exists in internal repository
tokay1 Windows Server 2012 R2 Standard / x64  OK  OK  OK  OK UNNEEDED, same version exists in internal repository
merida1 OS X 10.11.6 El Capitan / x86_64  OK  OK  OK  OK UNNEEDED, same version exists in internal repository