Back to Multiple platform build/check report for BioC 3.8
ABCDE[F]GHIJKLMNOPQRSTUVWXYZ

Multiple platform build/check report for BioC 3.8

Results for FunChIP

This page was generated on 2018-10-15 10:01:11 -0400 (Mon, 15 Oct 2018).

Package 552/1621HostnameOS / ArchINSTALLBUILDCHECKBUILD BIN
FunChIP 1.7.0
Alice Parodi
Snapshot Date: 2018-10-14 16:46:26 -0400 (Sun, 14 Oct 2018)
URL: https://git.bioconductor.org/packages/FunChIP
Branch: master
Last Commit: da0774a
Last Changed Date: 2018-04-30 10:41:42 -0400 (Mon, 30 Apr 2018)
malbec1 Linux (Ubuntu 16.04.1 LTS) / x86_64  OK  OK  WARNINGS UNNEEDED, same version exists in internal repository
tokay1 Windows Server 2012 R2 Standard / x64  OK  OK  WARNINGS  OK UNNEEDED, same version exists in internal repository
merida1 OS X 10.11.6 El Capitan / x86_64  OK  OK  WARNINGS  OK UNNEEDED, same version exists in internal repository