Back to Multiple platform build/check report for BioC 3.8
ABCDE[F]GHIJKLMNOPQRSTUVWXYZ

Multiple platform build/check report for BioC 3.8

Results for FISHalyseR

This page was generated on 2018-06-20 09:58:03 -0400 (Wed, 20 Jun 2018).

Package 490/1567HostnameOS / ArchINSTALLBUILDCHECKBUILD BIN
FISHalyseR 1.15.0
Karesh Arunakirinathan
Snapshot Date: 2018-06-19 16:46:22 -0400 (Tue, 19 Jun 2018)
URL: https://git.bioconductor.org/packages/FISHalyseR
Branch: master
Last Commit: 3c7334c
Last Changed Date: 2018-04-30 10:41:41 -0400 (Mon, 30 Apr 2018)
malbec1 Linux (Ubuntu 16.04.1 LTS) / x86_64  OK  OK  WARNINGS UNNEEDED, same version exists in internal repository
tokay1 Windows Server 2012 R2 Standard / x64  OK  OK  WARNINGS  OK UNNEEDED, same version exists in internal repository
merida1 OS X 10.11.6 El Capitan / x86_64  OK  OK  WARNINGS  OK UNNEEDED, same version exists in internal repository