Back to Multiple platform build/check report for BioC 3.8
ABCD[E]FGHIJKLMNOPQRSTUVWXYZ

Multiple platform build/check report for BioC 3.8

Results for ENmix

This page was generated on 2018-07-20 10:00:31 -0400 (Fri, 20 Jul 2018).

Package 445/1574HostnameOS / ArchINSTALLBUILDCHECKBUILD BIN
ENmix 1.17.0
Zongli Xu
Snapshot Date: 2018-07-19 16:46:23 -0400 (Thu, 19 Jul 2018)
URL: https://git.bioconductor.org/packages/ENmix
Branch: master
Last Commit: 75a07d0
Last Changed Date: 2018-04-30 10:41:41 -0400 (Mon, 30 Apr 2018)
malbec1 Linux (Ubuntu 16.04.1 LTS) / x86_64  OK  OK  OK UNNEEDED, same version exists in internal repository
tokay1 Windows Server 2012 R2 Standard / x64  OK  OK  OK  OK UNNEEDED, same version exists in internal repository
merida1 OS X 10.11.6 El Capitan / x86_64  OK  OK  OK  OK UNNEEDED, same version exists in internal repository