Back to Multiple platform build/check report for BioC 3.8
AB[C]DEFGHIJKLMNOPQRSTUVWXYZ

Multiple platform build/check report for BioC 3.8

Results for CGHregions

This page was generated on 2018-09-21 10:00:56 -0400 (Fri, 21 Sep 2018).

Package 223/1603HostnameOS / ArchINSTALLBUILDCHECKBUILD BIN
CGHregions 1.39.0
Sjoerd Vosse
Snapshot Date: 2018-09-20 16:46:10 -0400 (Thu, 20 Sep 2018)
URL: https://git.bioconductor.org/packages/CGHregions
Branch: master
Last Commit: 5e2a78e
Last Changed Date: 2018-04-30 10:41:37 -0400 (Mon, 30 Apr 2018)
malbec1 Linux (Ubuntu 16.04.1 LTS) / x86_64  OK  OK  OK UNNEEDED, same version exists in internal repository
tokay1 Windows Server 2012 R2 Standard / x64  OK  OK  OK  OK UNNEEDED, same version exists in internal repository
merida1 OS X 10.11.6 El Capitan / x86_64  OK  OK  OK  OK UNNEEDED, same version exists in internal repository