Back to Multiple platform build/check report for BioC 3.8
A[B]CDEFGHIJKLMNOPQRSTUVWXYZ

Multiple platform build/check report for BioC 3.8

Results for BEAT

This page was generated on 2018-11-14 10:02:24 -0500 (Wed, 14 Nov 2018).

Package 117/1649HostnameOS / ArchINSTALLBUILDCHECKBUILD BIN
BEAT 1.20.0
Kemal Akman
Snapshot Date: 2018-11-13 16:48:05 -0500 (Tue, 13 Nov 2018)
URL: https://git.bioconductor.org/packages/BEAT
Branch: RELEASE_3_8
Last Commit: 6b7f7f1
Last Changed Date: 2018-10-30 11:41:52 -0500 (Tue, 30 Oct 2018)
malbec1 Linux (Ubuntu 16.04.1 LTS) / x86_64  OK  OK  OK UNNEEDED, same version exists in internal repository
tokay1 Windows Server 2012 R2 Standard / x64  OK  OK  OK  OK UNNEEDED, same version exists in internal repository
merida1 OS X 10.11.6 El Capitan / x86_64  OK  OK  OK  OK UNNEEDED, same version exists in internal repository