Back to Multiple platform build/check report for BioC 3.7 experimental data

Multiple platform build/check report for BioC 3.7 experimental data

Results for vulcandata

This page was generated on 2018-10-14 12:59:31 -0400 (Sun, 14 Oct 2018).

Package 331/342HostnameOS / ArchINSTALLBUILDCHECKBUILD BIN
vulcandata 1.2.0
Federico M. Giorgi
Snapshot Date: 2018-10-14 07:35:26 -0400 (Sun, 14 Oct 2018)
URL: https://git.bioconductor.org/packages/vulcandata
Branch: RELEASE_3_7
Last Commit: 7de031c
Last Changed Date: 2018-04-30 10:31:33 -0400 (Mon, 30 Apr 2018)
malbec2 Linux (Ubuntu 16.04.1 LTS) / x86_64  OK  OK  OK UNNEEDED, same version exists in internal repository