Back to Multiple platform build/check report for BioC 3.7 experimental data

Multiple platform build/check report for BioC 3.7 experimental data

Results for frmaExampleData

This page was generated on 2018-09-20 13:00:32 -0400 (Thu, 20 Sep 2018).

Package 115/342HostnameOS / ArchINSTALLBUILDCHECKBUILD BIN
frmaExampleData 1.16.0
Matthew N. McCall
Snapshot Date: 2018-09-20 07:35:34 -0400 (Thu, 20 Sep 2018)
URL: https://git.bioconductor.org/packages/frmaExampleData
Branch: RELEASE_3_7
Last Commit: 7799d3a
Last Changed Date: 2018-04-30 10:31:26 -0400 (Mon, 30 Apr 2018)
malbec2 Linux (Ubuntu 16.04.1 LTS) / x86_64  OK  OK  WARNINGS UNNEEDED, same version exists in internal repository