Back to Multiple platform build/check report for BioC 3.7 experimental data

Multiple platform build/check report for BioC 3.7 experimental data

Results for bronchialIL13

This page was generated on 2018-10-14 12:59:20 -0400 (Sun, 14 Oct 2018).

Package 35/342HostnameOS / ArchINSTALLBUILDCHECKBUILD BIN
bronchialIL13 1.18.0
Vince Carey
Snapshot Date: 2018-10-14 07:35:26 -0400 (Sun, 14 Oct 2018)
URL: https://git.bioconductor.org/packages/bronchialIL13
Branch: RELEASE_3_7
Last Commit: ccb3b34
Last Changed Date: 2018-04-30 10:31:24 -0400 (Mon, 30 Apr 2018)
malbec2 Linux (Ubuntu 16.04.1 LTS) / x86_64  OK  OK  OK UNNEEDED, same version exists in internal repository