Back to Multiple platform build/check report for BioC 3.7 experimental data

Multiple platform build/check report for BioC 3.7 experimental data

Results for WES.1KG.WUGSC

This page was generated on 2018-06-19 13:01:56 -0400 (Tue, 19 Jun 2018).

Package 333/342HostnameOS / ArchINSTALLBUILDCHECKBUILD BIN
WES.1KG.WUGSC 1.12.0
Yuchao Jiang
Snapshot Date: 2018-06-19 07:35:23 -0400 (Tue, 19 Jun 2018)
URL: https://git.bioconductor.org/packages/WES.1KG.WUGSC
Branch: RELEASE_3_7
Last Commit: e70fd4b
Last Changed Date: 2018-04-30 10:31:29 -0400 (Mon, 30 Apr 2018)
malbec2 Linux (Ubuntu 16.04.1 LTS) / x86_64  OK  OK  OK UNNEEDED, same version exists in internal repository