Back to Multiple platform build/check report for BioC 3.7
ABCDE[F]GHIJKLMNOPQRSTUVWXYZ

Multiple platform build/check report for BioC 3.7

Results for facopy

This page was generated on 2018-10-15 09:58:02 -0400 (Mon, 15 Oct 2018).

Package 475/1561HostnameOS / ArchINSTALLBUILDCHECKBUILD BIN
facopy 1.14.0
David Mosen-Ansorena
Snapshot Date: 2018-10-14 16:46:11 -0400 (Sun, 14 Oct 2018)
URL: https://git.bioconductor.org/packages/facopy
Branch: RELEASE_3_7
Last Commit: 4e45246
Last Changed Date: 2018-04-30 10:35:35 -0400 (Mon, 30 Apr 2018)
malbec2 Linux (Ubuntu 16.04.1 LTS) / x86_64  ERROR  ERROR  skipped 
tokay2 Windows Server 2012 R2 Standard / x64  ERROR  ERROR  skipped  skipped 
merida2 OS X 10.11.6 El Capitan / x86_64  ERROR  ERROR  skipped  skipped